BEGIN:VCALENDAR
VERSION:2.0
PRODID:-//InvisionCommunity Events 4.7.22//EN
METHOD:PUBLISH
CALSCALE:GREGORIAN
REFRESH-INTERVAL:PT15M
X-PUBLISHED-TTL:PT15M
X-WR-CALNAME:SS活动日程表
NAME:SS活动日程表
BEGIN:VTIMEZONE
TZID:Europe/London
TZURL:http://tzurl.org/zoneinfo/Europe/London
X-LIC-LOCATION:Europe/London
BEGIN:DAYLIGHT
TZOFFSETFROM:+0000
TZOFFSETTO:+0100
TZNAME:BST
DTSTART:20170326T020000Z
RRULE:FREQ=YEARLY;BYMONTH=3;BYDAY=-1SU
END:DAYLIGHT
BEGIN:STANDARD
TZOFFSETFROM:+0100
TZOFFSETTO:+0000
TZNAME:GMT
DTSTART:20171029T020000Z
RRULE:FREQ=YEARLY;BYMONTH=10;BYDAY=-1SU
END:STANDARD
END:VTIMEZONE
BEGIN:VEVENT
SUMMARY:SS同盟2017年终语音聚会 (YY频道12419456)
DTSTAMP:20171217T151346Z
SEQUENCE:0
UID:16-1-b14bf28beb67e43086e6db0993bcb6bb@sstm.moe
ORGANIZER;CN="游戏游戏一二三":no-reply@delivery.sstml
	t.com
DESCRIPTION:\n				\n					\n\n				\n					SS同盟2017年终语
	音线上聚会 \n				\n\n				\n				
		       - 语音区倾情奉献 \n				\n\n
					\n					♣ 盘点各类年度最佳歌姬\n			
		\n\n				\n					♣ 揭开偶像们的神秘面纱
	\n				\n\n				\n					♣ 全民争夺语音挑战之王\n				\n\n				\n		
							\n						\n								 \n							\n								的双人主持\n							\n			
					\n								\n						\n								（没毛病！）\n					
			\n						\n								 ↓↓↓↓↓↓↓↓\n							\n	
						\n								→【猛击这里】←\n							\n	
						\n								『蠢萌小弟弟』 游戏少年 \n				
				\n							\n								 ↑↑↑↑↑↑↑↑\n		
						\n							\n								『靓丽小姐姐』 路过老师\n			
					\n						❤ 活动时间\n\n				\n					2017-12-23日 19:30-22:00\n			
		\n\n				\n					❤ 举办地点\n				\n\n				\n			
			ＳＳ同盟官方ＹＹ频道：12419456\n	
				\n\n				\n					(请提前下载好【YY语音软件】哦！
	)\n				\n\n				\n					❤ 活
	动细节\n				\n\n	
				\n					为了感谢大家这一年多来在语音区的努力，\n				\
	n\n				\n					本期YY
	歌会以“总结和感谢”为主题，以“趣味
	与变化”做希望，\n				\n
	\n				\n	
				
		大幅
	改版，呕心沥血
	制作出一期年终特别节目：\n				\n\
	n				\n					Part. 1 年度最受欢迎歌姬奖花落谁家？\n				\
	n\n				\n					\n						剧透\n					\n\n			
			\n						\n						
		经过认真整理，本期歌会将邀
	请6位各具特色的优秀歌姬/唱
	将作为特邀选手，开展竞赛式采访环节。\n						\n\n
							\n		
						每位选手将经历
	【开场介绍】【现场演唱】和【轻松问答】三个环节。\n
							\n\n						\n							【
	开场介绍】将由主
	持人结合大数据统
	计结果介绍选手这一年
	来在语音区的精彩表现，并与选手进行简单访谈。\n						
	\n\n						\n							【开场
	介绍】将由选手现场演唱一首201
	7年来最
	具个人代表性的一首歌
	。（如代表个人特质，代表一年来的经历心情等）\n						
	\n\n						\n		
						【轻松问答】将由主持人结合
	观众反馈及事先预
	备好的问题与选手开展
	趣味向问答，揭开选手们不为大众所知的另一面。\n						
	\n\n						\n		
						在采访环节结束后，将统计每
	位选手收到的鲜花数量作为评选“最
	受欢迎奖”的主要评分依据。\n						\n\n						\n			
					6位选手将分成3+3两个部分，每个部分分
	数最低的选手将强制进
	入惩罚环节，向大家表演一个准备好的语音节目。\n						
	\n\n						\
	n							P.S
	. 被惩罚的选手将会根
	据表演的效果获得正面或负面的评分ＢＵＦＦ哦！\n					
		\n					\n					\n						\n							\n								 \n							\n						\n					\n				
		\n						\n							\n								 \n							\n						\n					\n				\n\n				\n				
		Part. 2 我可是要做挑战王的男/女人啊！\n				\n\n				\n	
					\n						剧透\n
						\n\n					\n						\n							由两位选手作为
	各自代表队的
	小队长，分别带领两位现场报名的观众进
	行语音小剧本对抗赛。\n						\n\n						\n
								主持人会请小队长们挑选自己想要
	演绎的小剧本，并自由分配配音段落给各自的队员们。\n
							\n\n		
					\n		
						接下来小队长们
	将会各自带领自己的队员进入其他房间限时排练5分钟。\
	n						\n\n	
						\n	
							在此期间，两
	位主持人会当场表演两份配音剧本作为示范供大家参考
	。\n						\n\n						\
	n							接下来小队长们将回到活动现场
	依次向大
	家表演配音剧本，\n		
					\n\n						\n							然后由观众
	根据节目效果投票评分选出获胜的队伍。\n						\n\n						\n
								P.S. 获胜的队伍不仅可以获得更多节操奖励，也
	可以强制指定先前某位选手进入惩罚环节！\n						\n					\
	n					\n						\n							\n								 \n							\n						\n					\n					\n						
	\n							\n								 \n							\n						\n					\n				\n\n				\n					Part.
	 3 少侠们请留步，“简单讲两句”的重任就
	交给你们啦！\n				\n\n				\n					\n						剧透\n					\n\n		
				\n						\n	
							类似以往歌会中的
	抢麦序环节，抢到尾号为7的成员会进入抽奖环节。\n					
		\n\n						\n			
					与往届的抢麦序不同的是，
	抽到特别号码的成员需要说
	几句这一年来对论坛or自己的感触
	（总结性质）或是对未来的祝福。\n						\n\n			
				\n							成员的回复将会作为未来语音区的宣传素材，
	同时会根据成员的回复给予不同程度的奖励。\n						\n			
			\n					\n						\n							\n								 \n							\n						\n					\n					\n			
				\n							\n								 \n							\n						\n					\n				\n\n				\
	n					❤ 活动奖励\n				\n\n				\n			
			歌会参与人员如果能在
	活动贴下方贴上自己的惯用传送阵，
	可以额外获得50节操奖励。\n				\n\n				\n					\n						剧透\n		
				\n\n					\n						\n							1 基本参与奖励\n						\
	n\n	
					
		\n	
					
			所有
	参与选手
	奖励10
	0节操（7人），
	吃瓜群众奖励50节操。主持人将获得200
	节操（2人）。\n						\n\n						\n							2 剧本配音
	奖励\n						\n\n				
			\n							失败小队额
	外每人奖励50节操，成功小队额外每人奖励100节
	操。\n						\n\n						\n							3 惩罚奖励\n	
						\n\n						\n							参与惩罚环节的选手额外奖励1
	00节操。\n						\n\n						\n							4 优胜奖励\n		
					\n\n
			
			
			
	\n
			
			
			
		根
	据最后统
	计的选手受欢迎评分，从第
	一名到第五名选手分别获得额外奖励100\,80\,6
	0\,40\,20节操。\n						\n\n						\n							5 总结达人奖\n						\n
	\n						\n							根据抢麦序环节成员的回复质
	量额外奖励50或100节操。\n						\n					\n					\n						\n							\n
									 \n							\n						\n					\n					\n						\n							\n								 \n		
						\n						\n					\n				\n\n				\n					❤ 注意事项\n			
		\n\n			
		\n					① 到场的伙伴请务必将自己的ＹＹ名
	字改成论坛ＩＤ加UID\n				\n\n				
	\n					② 结束活动后请到活动总结帖内回
	复领取奖励（不回复、未改名、没有全程
	参与的人不予以发放）\n
					\n\n				\n					③ 请大家遵守秩序，禁止刷
	屏和恶意攻击哦❤\n				\n\n				\n					 \n				\n			\n		
DTSTART:20171223T113000Z
DTEND:20171223T140000Z
END:VEVENT
END:VCALENDAR
